BEGIN:VCALENDAR
VERSION:2.0
PRODID:-//Hamburger Schachklub von 1830 e.V. - ECPv6.15.20//NONSGML v1.0//EN
CALSCALE:GREGORIAN
METHOD:PUBLISH
X-WR-CALNAME:Hamburger Schachklub von 1830 e.V.
X-ORIGINAL-URL:https://hsk1830.de
X-WR-CALDESC:Veranstaltungen für Hamburger Schachklub von 1830 e.V.
REFRESH-INTERVAL;VALUE=DURATION:PT1H
X-Robots-Tag:noindex
X-PUBLISHED-TTL:PT1H
BEGIN:VTIMEZONE
TZID:Europe/Berlin
BEGIN:DAYLIGHT
TZOFFSETFROM:+0100
TZOFFSETTO:+0200
TZNAME:CEST
DTSTART:20230326T010000
END:DAYLIGHT
BEGIN:STANDARD
TZOFFSETFROM:+0200
TZOFFSETTO:+0100
TZNAME:CET
DTSTART:20231029T010000
END:STANDARD
BEGIN:DAYLIGHT
TZOFFSETFROM:+0100
TZOFFSETTO:+0200
TZNAME:CEST
DTSTART:20240331T010000
END:DAYLIGHT
BEGIN:STANDARD
TZOFFSETFROM:+0200
TZOFFSETTO:+0100
TZNAME:CET
DTSTART:20241027T010000
END:STANDARD
BEGIN:DAYLIGHT
TZOFFSETFROM:+0100
TZOFFSETTO:+0200
TZNAME:CEST
DTSTART:20250330T010000
END:DAYLIGHT
BEGIN:STANDARD
TZOFFSETFROM:+0200
TZOFFSETTO:+0100
TZNAME:CET
DTSTART:20251026T010000
END:STANDARD
END:VTIMEZONE
BEGIN:VEVENT
DTSTART;VALUE=DATE:20240317
DTEND;VALUE=DATE:20240318
DTSTAMP:20260419T223918
CREATED:20231101T091959Z
LAST-MODIFIED:20231101T091959Z
UID:10011476-1710633600-1710719999@hsk1830.de
SUMMARY:BL (13.Runde) : SC Heimbach-Weis-Neuwied - HSK 1
DESCRIPTION:
URL:https://hsk1830.de/termin/bl-13-runde-sc-heimbach-weis-neuwied-hsk-1
END:VEVENT
BEGIN:VEVENT
DTSTART;VALUE=DATE:20240317
DTEND;VALUE=DATE:20240318
DTSTAMP:20260419T223918
CREATED:20231201T180245Z
LAST-MODIFIED:20231201T180245Z
UID:10011493-1710633600-1710719999@hsk1830.de
SUMMARY:2. BL (10. Runde) : HSK 2 - SF Berlin
DESCRIPTION:
URL:https://hsk1830.de/termin/2-bl-10-runde-hsk-2-sf-berlin
END:VEVENT
BEGIN:VEVENT
DTSTART;VALUE=DATE:20240317
DTEND;VALUE=DATE:20240318
DTSTAMP:20260419T223918
CREATED:20231201T184259Z
LAST-MODIFIED:20231201T184259Z
UID:10011498-1710633600-1710719999@hsk1830.de
SUMMARY:OLNN (7. Runde) : HSK 3 - SK Johanneum Eppendorf
DESCRIPTION:
URL:https://hsk1830.de/termin/olnn-7-runde-hsk-3-sk-johanneum-eppendorf
END:VEVENT
END:VCALENDAR