BEGIN:VCALENDAR
VERSION:2.0
PRODID:-//Hamburger Schachklub von 1830 e.V. - ECPv6.15.20//NONSGML v1.0//EN
CALSCALE:GREGORIAN
METHOD:PUBLISH
X-ORIGINAL-URL:https://hsk1830.de
X-WR-CALDESC:Veranstaltungen für Hamburger Schachklub von 1830 e.V.
REFRESH-INTERVAL;VALUE=DURATION:PT1H
X-Robots-Tag:noindex
X-PUBLISHED-TTL:PT1H
BEGIN:VTIMEZONE
TZID:Europe/Berlin
BEGIN:DAYLIGHT
TZOFFSETFROM:+0100
TZOFFSETTO:+0200
TZNAME:CEST
DTSTART:20230326T010000
END:DAYLIGHT
BEGIN:STANDARD
TZOFFSETFROM:+0200
TZOFFSETTO:+0100
TZNAME:CET
DTSTART:20231029T010000
END:STANDARD
BEGIN:DAYLIGHT
TZOFFSETFROM:+0100
TZOFFSETTO:+0200
TZNAME:CEST
DTSTART:20240331T010000
END:DAYLIGHT
BEGIN:STANDARD
TZOFFSETFROM:+0200
TZOFFSETTO:+0100
TZNAME:CET
DTSTART:20241027T010000
END:STANDARD
BEGIN:DAYLIGHT
TZOFFSETFROM:+0100
TZOFFSETTO:+0200
TZNAME:CEST
DTSTART:20250330T010000
END:DAYLIGHT
BEGIN:STANDARD
TZOFFSETFROM:+0200
TZOFFSETTO:+0100
TZNAME:CET
DTSTART:20251026T010000
END:STANDARD
END:VTIMEZONE
BEGIN:VEVENT
DTSTART;TZID=Europe/Berlin:20240505T100000
DTEND;TZID=Europe/Berlin:20240505T170000
DTSTAMP:20260421T033149
CREATED:20230911T132221Z
LAST-MODIFIED:20230911T132221Z
UID:10011395-1714903200-1714928400@hsk1830.de
SUMMARY:JBL Hamburger SK - Weisse Dame
DESCRIPTION:
URL:https://hsk1830.de/termin/jbl-hamburger-sk-weisse-dame
CATEGORIES:Alle
END:VEVENT
BEGIN:VEVENT
DTSTART;TZID=Europe/Berlin:20240505T100000
DTEND;TZID=Europe/Berlin:20240505T170000
DTSTAMP:20260421T033149
CREATED:20230915T070249Z
LAST-MODIFIED:20230915T070249Z
UID:10011411-1714903200-1714928400@hsk1830.de
SUMMARY:JLL SKJE 2 - Hamburger SK 3
DESCRIPTION:
URL:https://hsk1830.de/termin/jll-skje-2-hamburger-sk-3
CATEGORIES:Alle
END:VEVENT
BEGIN:VEVENT
DTSTART;TZID=Europe/Berlin:20240505T100000
DTEND;TZID=Europe/Berlin:20240505T170000
DTSTAMP:20260421T033149
CREATED:20230915T070505Z
LAST-MODIFIED:20230915T070505Z
UID:10011412-1714903200-1714928400@hsk1830.de
SUMMARY:JLL SC Diogenes 1 - Hamburger SK 4
DESCRIPTION:
URL:https://hsk1830.de/termin/jll-sc-diogenes-1-hamburger-sk-4
CATEGORIES:Alle
END:VEVENT
BEGIN:VEVENT
DTSTART;TZID=Europe/Berlin:20240505T100000
DTEND;TZID=Europe/Berlin:20240505T170000
DTSTAMP:20260421T033149
CREATED:20230915T070708Z
LAST-MODIFIED:20230915T070708Z
UID:10011413-1714903200-1714928400@hsk1830.de
SUMMARY:JLL SF Sasel 1 - Hamburger SK 2
DESCRIPTION:
URL:https://hsk1830.de/termin/jll-sf-sasel-1-hamburger-sk-2
CATEGORIES:Alle
END:VEVENT
END:VCALENDAR