BEGIN:VCALENDAR
VERSION:2.0
PRODID:-//Hamburger Schachklub von 1830 e.V. - ECPv6.15.20//NONSGML v1.0//EN
CALSCALE:GREGORIAN
METHOD:PUBLISH
X-ORIGINAL-URL:https://hsk1830.de
X-WR-CALDESC:Veranstaltungen für Hamburger Schachklub von 1830 e.V.
REFRESH-INTERVAL;VALUE=DURATION:PT1H
X-Robots-Tag:noindex
X-PUBLISHED-TTL:PT1H
BEGIN:VTIMEZONE
TZID:Europe/Berlin
BEGIN:DAYLIGHT
TZOFFSETFROM:+0100
TZOFFSETTO:+0200
TZNAME:CEST
DTSTART:20230326T010000
END:DAYLIGHT
BEGIN:STANDARD
TZOFFSETFROM:+0200
TZOFFSETTO:+0100
TZNAME:CET
DTSTART:20231029T010000
END:STANDARD
BEGIN:DAYLIGHT
TZOFFSETFROM:+0100
TZOFFSETTO:+0200
TZNAME:CEST
DTSTART:20240331T010000
END:DAYLIGHT
BEGIN:STANDARD
TZOFFSETFROM:+0200
TZOFFSETTO:+0100
TZNAME:CET
DTSTART:20241027T010000
END:STANDARD
BEGIN:DAYLIGHT
TZOFFSETFROM:+0100
TZOFFSETTO:+0200
TZNAME:CEST
DTSTART:20250330T010000
END:DAYLIGHT
BEGIN:STANDARD
TZOFFSETFROM:+0200
TZOFFSETTO:+0100
TZNAME:CET
DTSTART:20251026T010000
END:STANDARD
END:VTIMEZONE
BEGIN:VEVENT
DTSTART;TZID=Europe/Berlin:20240517T190000
DTEND;TZID=Europe/Berlin:20240517T235900
DTSTAMP:20260423T080213
CREATED:20231226T134628Z
LAST-MODIFIED:20240308T195546Z
UID:10011817-1715972400-1715990340@hsk1830.de
SUMMARY:Kreisliga A (7): HSK 18 - STE 1
DESCRIPTION:
URL:https://hsk1830.de/termin/kreisliga-a-7-hsk-18-ste-1
END:VEVENT
BEGIN:VEVENT
DTSTART;TZID=Europe/Berlin:20240517T190000
DTEND;TZID=Europe/Berlin:20240517T235900
DTSTAMP:20260423T080213
CREATED:20231226T134629Z
LAST-MODIFIED:20240308T195545Z
UID:10011818-1715972400-1715990340@hsk1830.de
SUMMARY:Kreisliga A (7): HSK 19 - WEI 3
DESCRIPTION:
URL:https://hsk1830.de/termin/kreisliga-a-7-hsk-19-wei-3
END:VEVENT
BEGIN:VEVENT
DTSTART;TZID=Europe/Berlin:20240517T190000
DTEND;TZID=Europe/Berlin:20240517T235900
DTSTAMP:20260423T080213
CREATED:20231226T134630Z
LAST-MODIFIED:20240308T195542Z
UID:10011819-1715972400-1715990340@hsk1830.de
SUMMARY:Kreisliga C (7): HSK 22 - STP 9
DESCRIPTION:
URL:https://hsk1830.de/termin/kreisliga-c-7-hsk-22-stp-9
END:VEVENT
BEGIN:VEVENT
DTSTART;TZID=Europe/Berlin:20240517T190000
DTEND;TZID=Europe/Berlin:20240517T235900
DTSTAMP:20260423T080213
CREATED:20231226T134632Z
LAST-MODIFIED:20240308T195305Z
UID:10011820-1715972400-1715990340@hsk1830.de
SUMMARY:Kreisklasse A (7): FBK 4 - HSK 24
DESCRIPTION:
URL:https://hsk1830.de/termin/kreisklasse-a-7-fbk-4-hsk-24
END:VEVENT
END:VCALENDAR