BEGIN:VCALENDAR
VERSION:2.0
PRODID:-//Hamburger Schachklub von 1830 e.V. - ECPv6.15.20//NONSGML v1.0//EN
CALSCALE:GREGORIAN
METHOD:PUBLISH
X-ORIGINAL-URL:https://hsk1830.de
X-WR-CALDESC:Veranstaltungen für Hamburger Schachklub von 1830 e.V.
REFRESH-INTERVAL;VALUE=DURATION:PT1H
X-Robots-Tag:noindex
X-PUBLISHED-TTL:PT1H
BEGIN:VTIMEZONE
TZID:Europe/Berlin
BEGIN:DAYLIGHT
TZOFFSETFROM:+0100
TZOFFSETTO:+0200
TZNAME:CEST
DTSTART:20240331T010000
END:DAYLIGHT
BEGIN:STANDARD
TZOFFSETFROM:+0200
TZOFFSETTO:+0100
TZNAME:CET
DTSTART:20241027T010000
END:STANDARD
BEGIN:DAYLIGHT
TZOFFSETFROM:+0100
TZOFFSETTO:+0200
TZNAME:CEST
DTSTART:20250330T010000
END:DAYLIGHT
BEGIN:STANDARD
TZOFFSETFROM:+0200
TZOFFSETTO:+0100
TZNAME:CET
DTSTART:20251026T010000
END:STANDARD
BEGIN:DAYLIGHT
TZOFFSETFROM:+0100
TZOFFSETTO:+0200
TZNAME:CEST
DTSTART:20260329T010000
END:DAYLIGHT
BEGIN:STANDARD
TZOFFSETFROM:+0200
TZOFFSETTO:+0100
TZNAME:CET
DTSTART:20261025T010000
END:STANDARD
END:VTIMEZONE
BEGIN:VEVENT
DTSTART;TZID=Europe/Berlin:20250119T110000
DTEND;TZID=Europe/Berlin:20250119T170000
DTSTAMP:20260422T081952
CREATED:20241021T063344Z
LAST-MODIFIED:20241021T063344Z
UID:10012379-1737284400-1737306000@hsk1830.de
SUMMARY:JBL Bad Schwartau - HSK
DESCRIPTION:
URL:https://hsk1830.de/termin/jbl-bad-schwartau-hsk
CATEGORIES:Alle
END:VEVENT
BEGIN:VEVENT
DTSTART;TZID=Europe/Berlin:20250119T110000
DTEND;TZID=Europe/Berlin:20250119T170000
DTSTAMP:20260422T081952
CREATED:20241021T063527Z
LAST-MODIFIED:20241021T063527Z
UID:10012380-1737284400-1737306000@hsk1830.de
SUMMARY:JLL HSK 4 - SKJE 2
DESCRIPTION:
URL:https://hsk1830.de/termin/jll-hsk-4-skje-2
CATEGORIES:Alle
END:VEVENT
BEGIN:VEVENT
DTSTART;TZID=Europe/Berlin:20250119T110000
DTEND;TZID=Europe/Berlin:20250119T170000
DTSTAMP:20260422T081952
CREATED:20241021T063649Z
LAST-MODIFIED:20241021T063649Z
UID:10012381-1737284400-1737306000@hsk1830.de
SUMMARY:JLL HSK 3 - Wilhelmsburg 1
DESCRIPTION:
URL:https://hsk1830.de/termin/jll-hsk-3-wilhelmsburg-1
CATEGORIES:Alle
END:VEVENT
BEGIN:VEVENT
DTSTART;TZID=Europe/Berlin:20250119T110000
DTEND;TZID=Europe/Berlin:20250119T170000
DTSTAMP:20260422T081952
CREATED:20241021T063823Z
LAST-MODIFIED:20241021T063823Z
UID:10012382-1737284400-1737306000@hsk1830.de
SUMMARY:JLL HSK 2 - Weisse Dame 1
DESCRIPTION:
URL:https://hsk1830.de/termin/jll-hsk-2-weisse-dame-1
CATEGORIES:Alle
END:VEVENT
END:VCALENDAR