BEGIN:VCALENDAR
VERSION:2.0
PRODID:-//Hamburger Schachklub von 1830 e.V. - ECPv6.15.20//NONSGML v1.0//EN
CALSCALE:GREGORIAN
METHOD:PUBLISH
X-WR-CALNAME:Hamburger Schachklub von 1830 e.V.
X-ORIGINAL-URL:https://hsk1830.de
X-WR-CALDESC:Veranstaltungen für Hamburger Schachklub von 1830 e.V.
REFRESH-INTERVAL;VALUE=DURATION:PT1H
X-Robots-Tag:noindex
X-PUBLISHED-TTL:PT1H
BEGIN:VTIMEZONE
TZID:Europe/Berlin
BEGIN:DAYLIGHT
TZOFFSETFROM:+0100
TZOFFSETTO:+0200
TZNAME:CEST
DTSTART:20240331T010000
END:DAYLIGHT
BEGIN:STANDARD
TZOFFSETFROM:+0200
TZOFFSETTO:+0100
TZNAME:CET
DTSTART:20241027T010000
END:STANDARD
BEGIN:DAYLIGHT
TZOFFSETFROM:+0100
TZOFFSETTO:+0200
TZNAME:CEST
DTSTART:20250330T010000
END:DAYLIGHT
BEGIN:STANDARD
TZOFFSETFROM:+0200
TZOFFSETTO:+0100
TZNAME:CET
DTSTART:20251026T010000
END:STANDARD
BEGIN:DAYLIGHT
TZOFFSETFROM:+0100
TZOFFSETTO:+0200
TZNAME:CEST
DTSTART:20260329T010000
END:DAYLIGHT
BEGIN:STANDARD
TZOFFSETFROM:+0200
TZOFFSETTO:+0100
TZNAME:CET
DTSTART:20261025T010000
END:STANDARD
END:VTIMEZONE
BEGIN:VEVENT
DTSTART;TZID=Europe/Berlin:20250125T090000
DTEND;TZID=Europe/Berlin:20250125T170000
DTSTAMP:20260420T231411
CREATED:20241115T140629Z
LAST-MODIFIED:20241115T140629Z
UID:10012406-1737795600-1737824400@hsk1830.de
SUMMARY:HJET (3)
DESCRIPTION:
URL:https://hsk1830.de/termin/hjet-3
CATEGORIES:Alle
END:VEVENT
BEGIN:VEVENT
DTSTART;TZID=Europe/Berlin:20250125T140000
DTEND;TZID=Europe/Berlin:20250125T200000
DTSTAMP:20260420T231411
CREATED:20240910T122148Z
LAST-MODIFIED:20240912T140958Z
UID:10012345-1737813600-1737835200@hsk1830.de
SUMMARY:FBL (3. Runde) SG 1871 Löberitz - Hamburger Schachklub von 1830 e.V.
DESCRIPTION:Frauen-Bundesliga (3. Runde) SG 1871 Löberitz – Hamburger Schachklub von 1830 e.V. \nAusrichter SZ Seeblick Dippoldiswalde
URL:https://hsk1830.de/termin/fbl-3-runde-202425
END:VEVENT
BEGIN:VEVENT
DTSTART;TZID=Europe/Berlin:20250125T140000
DTEND;TZID=Europe/Berlin:20250125T200000
DTSTAMP:20260420T231411
CREATED:20240913T082841Z
LAST-MODIFIED:20240913T082930Z
UID:10012357-1737813600-1737835200@hsk1830.de
SUMMARY:2. FBL (3. Runde) Delmenhorster SK - HSK II
DESCRIPTION:2. Frauen-Bundesliga 3. Runde Delmenhorster SK gegen Hamburger SK II \nAusrichter ist der SV Mühlheim Nord
URL:https://hsk1830.de/termin/2-fbl-runde-3-202425
END:VEVENT
END:VCALENDAR