BEGIN:VCALENDAR
VERSION:2.0
PRODID:-//Hamburger Schachklub von 1830 e.V. - ECPv6.15.20//NONSGML v1.0//EN
CALSCALE:GREGORIAN
METHOD:PUBLISH
X-WR-CALNAME:Hamburger Schachklub von 1830 e.V.
X-ORIGINAL-URL:https://hsk1830.de
X-WR-CALDESC:Veranstaltungen für Hamburger Schachklub von 1830 e.V.
REFRESH-INTERVAL;VALUE=DURATION:PT1H
X-Robots-Tag:noindex
X-PUBLISHED-TTL:PT1H
BEGIN:VTIMEZONE
TZID:Europe/Berlin
BEGIN:DAYLIGHT
TZOFFSETFROM:+0100
TZOFFSETTO:+0200
TZNAME:CEST
DTSTART:20240331T010000
END:DAYLIGHT
BEGIN:STANDARD
TZOFFSETFROM:+0200
TZOFFSETTO:+0100
TZNAME:CET
DTSTART:20241027T010000
END:STANDARD
BEGIN:DAYLIGHT
TZOFFSETFROM:+0100
TZOFFSETTO:+0200
TZNAME:CEST
DTSTART:20250330T010000
END:DAYLIGHT
BEGIN:STANDARD
TZOFFSETFROM:+0200
TZOFFSETTO:+0100
TZNAME:CET
DTSTART:20251026T010000
END:STANDARD
BEGIN:DAYLIGHT
TZOFFSETFROM:+0100
TZOFFSETTO:+0200
TZNAME:CEST
DTSTART:20260329T010000
END:DAYLIGHT
BEGIN:STANDARD
TZOFFSETFROM:+0200
TZOFFSETTO:+0100
TZNAME:CET
DTSTART:20261025T010000
END:STANDARD
END:VTIMEZONE
BEGIN:VEVENT
DTSTART;VALUE=DATE:20250501
DTEND;VALUE=DATE:20250505
DTSTAMP:20260422T041628
CREATED:20250313T155458Z
LAST-MODIFIED:20250313T155458Z
UID:10012635-1746057600-1746403199@hsk1830.de
SUMMARY:Hamburger Senioren Einzelmeisterschaft 2025 - 50+
DESCRIPTION:Hamburger Schachverband lädt zur Offenen Senioren-Meisterschaft ein: Ausschreibung beim Schachverband\n\nDas Turnier ist offen für Spieler:innen des Jahrgangs 1975 und älter und findet bei Königsspringer in Hamburg-Schnelsen statt. Gespielt wird vom  1. bis 4. Mai 2025 über vier Tage und sieben Runden – es werden also drei Doppelrunden gespielt!\n\nDa die Räumlichkeiten nicht allzu groß sind\, ist die Teilnehmerzahl auf 68 beschränkt. Interessent:innen sollten sich daher möglichst bald anmelden!
URL:https://hsk1830.de/termin/hamburger-senioren-einzelmeisterschaft-2025-50
LOCATION:Clubheim des SC Königsspringer\, Clubheim des SC Königsspringer\, Riekbornweg 5 (auf dem Sportplatz)\, Hamburg\, 22457\, Deutschland
END:VEVENT
BEGIN:VEVENT
DTSTART;TZID=Europe/Berlin:20250501T140000
DTEND;TZID=Europe/Berlin:20250501T170000
DTSTAMP:20260422T041628
CREATED:20250313T161037Z
LAST-MODIFIED:20250313T161037Z
UID:10012636-1746108000-1746118800@hsk1830.de
SUMMARY:Hamburger Frauenblitzmeisterschaft 2025: am 1. Mai in Marmstorf
DESCRIPTION:Der SK Marmstorf trägt die Hamburger Frauenblitzmeisterschaft 2025 aus! Am 1. Mai geht es um 14 Uhr los. \nDie Teilnehmerinnen müssen eine aktive Spielberechtigung für einen Verein des Hamburger Schachverbandes haben.\nSpielmodus: Bis 10 Teilnehmerinnen Rundenturnier. Über 10 Teilnehmerinnen 9 Runden Schweizer System.\nBedenkzeit: 3 Minuten plus 2 Sekunden pro Zug. \nDie Siegerin qualifiziert sich zur Deutschen Frauenblitzmeisterschaft! \nDetails hier.
URL:https://hsk1830.de/termin/hamburger-frauenblitzmeisterschaft-2025-am-1-mai-in-marmstorf
END:VEVENT
END:VCALENDAR