BEGIN:VCALENDAR
VERSION:2.0
PRODID:-//Hamburger Schachklub von 1830 e.V. - ECPv6.15.20//NONSGML v1.0//EN
CALSCALE:GREGORIAN
METHOD:PUBLISH
X-WR-CALNAME:Hamburger Schachklub von 1830 e.V.
X-ORIGINAL-URL:https://hsk1830.de
X-WR-CALDESC:Veranstaltungen für Hamburger Schachklub von 1830 e.V.
REFRESH-INTERVAL;VALUE=DURATION:PT1H
X-Robots-Tag:noindex
X-PUBLISHED-TTL:PT1H
BEGIN:VTIMEZONE
TZID:Europe/Berlin
BEGIN:DAYLIGHT
TZOFFSETFROM:+0100
TZOFFSETTO:+0200
TZNAME:CEST
DTSTART:20240331T010000
END:DAYLIGHT
BEGIN:STANDARD
TZOFFSETFROM:+0200
TZOFFSETTO:+0100
TZNAME:CET
DTSTART:20241027T010000
END:STANDARD
BEGIN:DAYLIGHT
TZOFFSETFROM:+0100
TZOFFSETTO:+0200
TZNAME:CEST
DTSTART:20250330T010000
END:DAYLIGHT
BEGIN:STANDARD
TZOFFSETFROM:+0200
TZOFFSETTO:+0100
TZNAME:CET
DTSTART:20251026T010000
END:STANDARD
BEGIN:DAYLIGHT
TZOFFSETFROM:+0100
TZOFFSETTO:+0200
TZNAME:CEST
DTSTART:20260329T010000
END:DAYLIGHT
BEGIN:STANDARD
TZOFFSETFROM:+0200
TZOFFSETTO:+0100
TZNAME:CET
DTSTART:20261025T010000
END:STANDARD
END:VTIMEZONE
BEGIN:VEVENT
DTSTART;TZID=Europe/Berlin:20250517T100000
DTEND;TZID=Europe/Berlin:20250517T170000
DTSTAMP:20260421T171150
CREATED:20250222T093818Z
LAST-MODIFIED:20250222T093818Z
UID:10012624-1747476000-1747501200@hsk1830.de
SUMMARY:4. Walddörfer Schnellschachturnier
DESCRIPTION:Der Volksdorfer Schachklub von 1948 e.V. veranstaltet in Zusammenarbeit mit der Schachsparte des Walddörfer Sportvereins (WSV) die 4. Auflage des Walddörfer-Schnellschachturniers. \nUnabhängig ob jung oder älter\, weiblich oder männlich\, Vereinsspieler oder nicht Vereinsspieler: Alle sind herzlich willkommen. \nDas räumlich großzügige und helle WSV Sportforum bietet allen  Teilnehmerinnen und Teilnehmern erstklassige Spielbedin-gungen. Unmittelbar neben dem großen Spielsaal können in der Sportsbar während des Turniers Getränke\, Snacks und ein Mittagsimbiss preisgünstig erworben werden. Das Sportforum des WSV ist verkehrsgünstig zu erreichen. Vom U-Bahnhof Volksdorf liegt es nur 5 Gehminuten entfernt. \nZur Ausschreibung
URL:https://hsk1830.de/termin/4-walddoerfer-schnellschachturnier
END:VEVENT
END:VCALENDAR