BEGIN:VCALENDAR
VERSION:2.0
PRODID:-//Hamburger Schachklub von 1830 e.V. - ECPv6.15.20//NONSGML v1.0//EN
CALSCALE:GREGORIAN
METHOD:PUBLISH
X-WR-CALNAME:Hamburger Schachklub von 1830 e.V.
X-ORIGINAL-URL:https://hsk1830.de
X-WR-CALDESC:Veranstaltungen für Hamburger Schachklub von 1830 e.V.
REFRESH-INTERVAL;VALUE=DURATION:PT1H
X-Robots-Tag:noindex
X-PUBLISHED-TTL:PT1H
BEGIN:VTIMEZONE
TZID:Europe/Berlin
BEGIN:DAYLIGHT
TZOFFSETFROM:+0100
TZOFFSETTO:+0200
TZNAME:CEST
DTSTART:20240331T010000
END:DAYLIGHT
BEGIN:STANDARD
TZOFFSETFROM:+0200
TZOFFSETTO:+0100
TZNAME:CET
DTSTART:20241027T010000
END:STANDARD
BEGIN:DAYLIGHT
TZOFFSETFROM:+0100
TZOFFSETTO:+0200
TZNAME:CEST
DTSTART:20250330T010000
END:DAYLIGHT
BEGIN:STANDARD
TZOFFSETFROM:+0200
TZOFFSETTO:+0100
TZNAME:CET
DTSTART:20251026T010000
END:STANDARD
BEGIN:DAYLIGHT
TZOFFSETFROM:+0100
TZOFFSETTO:+0200
TZNAME:CEST
DTSTART:20260329T010000
END:DAYLIGHT
BEGIN:STANDARD
TZOFFSETFROM:+0200
TZOFFSETTO:+0100
TZNAME:CET
DTSTART:20261025T010000
END:STANDARD
END:VTIMEZONE
BEGIN:VEVENT
DTSTART;TZID=Europe/Berlin:20250606T163000
DTEND;TZID=Europe/Berlin:20250606T180000
DTSTAMP:20260422T174912
CREATED:20250327T140626Z
LAST-MODIFIED:20250327T140626Z
UID:10012646-1749227400-1749232800@hsk1830.de
SUMMARY:HJMM Basisklasse SKJE 5 - HSK 8
DESCRIPTION:
URL:https://hsk1830.de/termin/hjmm-basisklasse-skje-5-hsk-8
CATEGORIES:Alle
END:VEVENT
BEGIN:VEVENT
DTSTART;TZID=Europe/Berlin:20250606T190000
DTEND;TZID=Europe/Berlin:20250606T235900
DTSTAMP:20260422T174912
CREATED:20241213T105252Z
LAST-MODIFIED:20250226T194243Z
UID:10012436-1749236400-1749254340@hsk1830.de
SUMMARY:Kiek mol wedder in 2025 - Trainingspartien unter Turnierbedingungen
DESCRIPTION:Offen für alle Mitglieder des Hamburger Schachklubs von 1830 e.V. und Gäste. \nEs werden bevorzugt Partien zwischen Spielern mit ähnlich hoher DWZ-Wertung angesetzt. Wunschpaarungen sind möglich. Mehrfache Ansetzungen gleicher Spielpartner sind möglich. Der Ein- oder Ausstieg bzw. eine Pause sind zu jeder Runde möglich. Die Karenzzeit beträgt 15 Minuten. Es gelten die FIDE-Regeln (Anhang G gilt nicht)\, mit Ausnahme zu elektronischen Geräten gemäß FIDE. Ausgeschaltete Geräte sind erlaubt. Bei deren Gebrauch durch Spieler oder Geräuschbildung entscheidet die Turnierleitung über Sanktionen. \nBedenkzeit:\n2 Stunden für 40 Züge\, danach 30 Minuten für den Rest der Partie\, d.h. eine Partie ist spätestens um 24:00 Uhr beendet (HMM-Modus). Wenn sich beide Partner einigen\, kann auch abweichend mit dem Modus 90 Minuten für 40 Züge und 30 Minuten für den Rest der Partie je Spieler gespielt werden. \nStartgeld: Kein Startgeld. \nKeine DWZ- oder ELO-Auswertung.
URL:https://hsk1830.de/termin/kiek-mol-wedder-in-2025-trainingspartien-unter-turnierbedingungen/2025-06-06
LOCATION:Hamburger Schachklub von 1830 e.V.\, Schellingstr. 41\, Hamburg\, 22089\, Deutschland
ORGANIZER;CN="Hamburger Schachklub von 1830 e.V.":MAILTO:schachklub@hsk1830.de
END:VEVENT
BEGIN:VEVENT
DTSTART;TZID=Europe/Berlin:20250606T190000
DTEND;TZID=Europe/Berlin:20250606T235900
DTSTAMP:20260422T174912
CREATED:20241215T165907Z
LAST-MODIFIED:20241215T165907Z
UID:10012590-1749236400-1749254340@hsk1830.de
SUMMARY:HMM25 (8. Runde) - Bezirksliga A: LGH(1) - HSK(11)
DESCRIPTION:
URL:https://hsk1830.de/termin/hmm25-8-runde-bezirksliga-a-lgh1-hsk11
LOCATION:Bürgerhaus Langenhorn\, Tangstedter Landstr 41\, Hamburg\, 22419\, Deutschland
END:VEVENT
BEGIN:VEVENT
DTSTART;TZID=Europe/Berlin:20250606T190000
DTEND;TZID=Europe/Berlin:20250606T235900
DTSTAMP:20260422T174912
CREATED:20241215T165907Z
LAST-MODIFIED:20241215T165907Z
UID:10012591-1749236400-1749254340@hsk1830.de
SUMMARY:HMM25 (8. Runde) - Stadtliga B: HSK(10) - SFR(2)
DESCRIPTION:
URL:https://hsk1830.de/termin/hmm25-8-runde-stadtliga-b-hsk10-sfr2
LOCATION:Hamburger Schachklub von 1830 e.V.\, Schellingstr. 41\, Hamburg\, 22089\, Deutschland
END:VEVENT
BEGIN:VEVENT
DTSTART;TZID=Europe/Berlin:20250606T190000
DTEND;TZID=Europe/Berlin:20250606T235900
DTSTAMP:20260422T174912
CREATED:20241215T165908Z
LAST-MODIFIED:20241215T165908Z
UID:10012592-1749236400-1749254340@hsk1830.de
SUMMARY:HMM25 (8. Runde) - Stadtliga B: HSK(8) - SKJ(3)
DESCRIPTION:
URL:https://hsk1830.de/termin/hmm25-8-runde-stadtliga-b-hsk8-skj3
LOCATION:Hamburger Schachklub von 1830 e.V.\, Schellingstr. 41\, Hamburg\, 22089\, Deutschland
END:VEVENT
BEGIN:VEVENT
DTSTART;TZID=Europe/Berlin:20250606T190000
DTEND;TZID=Europe/Berlin:20250606T235900
DTSTAMP:20260422T174912
CREATED:20241215T165908Z
LAST-MODIFIED:20241215T165908Z
UID:10012593-1749236400-1749254340@hsk1830.de
SUMMARY:HMM25 (8. Runde) - Stadtliga B: HSK(9) - BBK(2)
DESCRIPTION:
URL:https://hsk1830.de/termin/hmm25-8-runde-stadtliga-b-hsk9-bbk2
LOCATION:Hamburger Schachklub von 1830 e.V.\, Schellingstr. 41\, Hamburg\, 22089\, Deutschland
END:VEVENT
END:VCALENDAR