BEGIN:VCALENDAR
VERSION:2.0
PRODID:-//Hamburger Schachklub von 1830 e.V. - ECPv6.15.20//NONSGML v1.0//EN
CALSCALE:GREGORIAN
METHOD:PUBLISH
X-ORIGINAL-URL:https://hsk1830.de
X-WR-CALDESC:Veranstaltungen für Hamburger Schachklub von 1830 e.V.
REFRESH-INTERVAL;VALUE=DURATION:PT1H
X-Robots-Tag:noindex
X-PUBLISHED-TTL:PT1H
BEGIN:VTIMEZONE
TZID:Europe/Berlin
BEGIN:DAYLIGHT
TZOFFSETFROM:+0100
TZOFFSETTO:+0200
TZNAME:CEST
DTSTART:20240331T010000
END:DAYLIGHT
BEGIN:STANDARD
TZOFFSETFROM:+0200
TZOFFSETTO:+0100
TZNAME:CET
DTSTART:20241027T010000
END:STANDARD
BEGIN:DAYLIGHT
TZOFFSETFROM:+0100
TZOFFSETTO:+0200
TZNAME:CEST
DTSTART:20250330T010000
END:DAYLIGHT
BEGIN:STANDARD
TZOFFSETFROM:+0200
TZOFFSETTO:+0100
TZNAME:CET
DTSTART:20251026T010000
END:STANDARD
BEGIN:DAYLIGHT
TZOFFSETFROM:+0100
TZOFFSETTO:+0200
TZNAME:CEST
DTSTART:20260329T010000
END:DAYLIGHT
BEGIN:STANDARD
TZOFFSETFROM:+0200
TZOFFSETTO:+0100
TZNAME:CET
DTSTART:20261025T010000
END:STANDARD
END:VTIMEZONE
BEGIN:VEVENT
DTSTART;VALUE=DATE:20250921
DTEND;VALUE=DATE:20250922
DTSTAMP:20260420T173731
CREATED:20250708T154643Z
LAST-MODIFIED:20250708T161916Z
UID:10012724-1758412800-1758499199@hsk1830.de
SUMMARY:FBL (2. Runde) : SK Freiburg-Zähringen 1887 - HSK 1 F
DESCRIPTION:  \n 
URL:https://hsk1830.de/termin/fbl-2-runde-sk-freiburg-zaehringen-1887-hsk-1-f
END:VEVENT
BEGIN:VEVENT
DTSTART;VALUE=DATE:20250921
DTEND;VALUE=DATE:20250922
DTSTAMP:20260420T173731
CREATED:20250708T160648Z
LAST-MODIFIED:20250708T161824Z
UID:10012734-1758412800-1758499199@hsk1830.de
SUMMARY:FRL (1. Runde) : Think Rochade-SC HRO - HSK 2 F
DESCRIPTION:  \n 
URL:https://hsk1830.de/termin/frl-1-runde-think-rochade-sc-hro-hsk-2-f
END:VEVENT
BEGIN:VEVENT
DTSTART;VALUE=DATE:20250921
DTEND;VALUE=DATE:20250922
DTSTAMP:20260420T173731
CREATED:20250708T160935Z
LAST-MODIFIED:20250708T161218Z
UID:10012735-1758412800-1758499199@hsk1830.de
SUMMARY:FRL (1. Runde) : Lübecker SV - HSK 3 F
DESCRIPTION:  \n 
URL:https://hsk1830.de/termin/frl-1-runde-luebecker-sv-hsk-2-f
END:VEVENT
BEGIN:VEVENT
DTSTART;TZID=Europe/Berlin:20250921T110000
DTEND;TZID=Europe/Berlin:20250921T170000
DTSTAMP:20260420T173731
CREATED:20250913T160345Z
LAST-MODIFIED:20250913T160727Z
UID:10012820-1758452400-1758474000@hsk1830.de
SUMMARY:JLL (1. Runde) SchvGG Blankenese 2 vs. HSK 3
DESCRIPTION:
URL:https://hsk1830.de/termin/jll-1-runde-schvgg-blankenese-2-vs-hsk-3
CATEGORIES:Alle
END:VEVENT
BEGIN:VEVENT
DTSTART;TZID=Europe/Berlin:20250921T110000
DTEND;TZID=Europe/Berlin:20250921T170000
DTSTAMP:20260420T173731
CREATED:20250913T160607Z
LAST-MODIFIED:20250913T160607Z
UID:10012821-1758452400-1758474000@hsk1830.de
SUMMARY:JLL (1. Runde) HSK 4 - HSK 2
DESCRIPTION:
URL:https://hsk1830.de/termin/jll-1-runde-hsk-4-hsk-2
CATEGORIES:Alle
END:VEVENT
BEGIN:VEVENT
DTSTART;TZID=Europe/Berlin:20250921T110000
DTEND;TZID=Europe/Berlin:20250921T170000
DTSTAMP:20260420T173731
CREATED:20250920T085957Z
LAST-MODIFIED:20250920T085957Z
UID:10012826-1758452400-1758474000@hsk1830.de
SUMMARY:JBL (1.Runde) HSK - Weisse Dame
DESCRIPTION:
URL:https://hsk1830.de/termin/jbl-1-runde-hsk-weisse-dame
CATEGORIES:Alle
END:VEVENT
END:VCALENDAR