BEGIN:VCALENDAR
VERSION:2.0
PRODID:-//Hamburger Schachklub von 1830 e.V. - ECPv6.15.20//NONSGML v1.0//EN
CALSCALE:GREGORIAN
METHOD:PUBLISH
X-ORIGINAL-URL:https://hsk1830.de
X-WR-CALDESC:Veranstaltungen für Hamburger Schachklub von 1830 e.V.
REFRESH-INTERVAL;VALUE=DURATION:PT1H
X-Robots-Tag:noindex
X-PUBLISHED-TTL:PT1H
BEGIN:VTIMEZONE
TZID:Europe/Berlin
BEGIN:DAYLIGHT
TZOFFSETFROM:+0100
TZOFFSETTO:+0200
TZNAME:CEST
DTSTART:20250330T010000
END:DAYLIGHT
BEGIN:STANDARD
TZOFFSETFROM:+0200
TZOFFSETTO:+0100
TZNAME:CET
DTSTART:20251026T010000
END:STANDARD
BEGIN:DAYLIGHT
TZOFFSETFROM:+0100
TZOFFSETTO:+0200
TZNAME:CEST
DTSTART:20260329T010000
END:DAYLIGHT
BEGIN:STANDARD
TZOFFSETFROM:+0200
TZOFFSETTO:+0100
TZNAME:CET
DTSTART:20261025T010000
END:STANDARD
BEGIN:DAYLIGHT
TZOFFSETFROM:+0100
TZOFFSETTO:+0200
TZNAME:CEST
DTSTART:20270328T010000
END:DAYLIGHT
BEGIN:STANDARD
TZOFFSETFROM:+0200
TZOFFSETTO:+0100
TZNAME:CET
DTSTART:20271031T010000
END:STANDARD
END:VTIMEZONE
BEGIN:VEVENT
DTSTART;TZID=Europe/Berlin:20260510T080000
DTEND;TZID=Europe/Berlin:20260516T170000
DTSTAMP:20260420T070155
CREATED:20250927T055541Z
LAST-MODIFIED:20251122T175103Z
UID:10012834-1778400000-1778950800@hsk1830.de
SUMMARY:Jugendreise nach Glückstadt
DESCRIPTION:Auch in 2026 findet wieder unsere Jugendreise statt. \nDieses mal heht es nach Glückstadt. \nZur Ausschreibung geht es hier.
URL:https://hsk1830.de/termin/jugendreise-nach-glueckstadt
CATEGORIES:Sonstige Veranstaltungen,Vereinsleben & Veranstaltungen
END:VEVENT
BEGIN:VEVENT
DTSTART;TZID=Europe/Berlin:20260511T080000
DTEND;TZID=Europe/Berlin:20260515T170000
DTSTAMP:20260420T070155
CREATED:20251023T091056Z
LAST-MODIFIED:20251125T104217Z
UID:10012851-1778486400-1778864400@hsk1830.de
SUMMARY:Ferienkurs
DESCRIPTION:Hier geht es zur Ausschreibung.
URL:https://hsk1830.de/termin/ferienkurs-26
LOCATION:Hamburger Schachklub von 1830 e.V.\, Schellingstr. 41\, Hamburg\, 22089\, Deutschland
CATEGORIES:Schachschule,Training
END:VEVENT
BEGIN:VEVENT
DTSTART;TZID=Europe/Berlin:20260606T100000
DTEND;TZID=Europe/Berlin:20260606T180000
DTSTAMP:20260420T070155
CREATED:20260330T154544Z
LAST-MODIFIED:20260330T154633Z
UID:10013061-1780740000-1780768800@hsk1830.de
SUMMARY:15. Blankeneser Jugend Pokal
DESCRIPTION:
URL:https://hsk1830.de/termin/3-blankeneser-jugend-pokal
LOCATION:Lise-Meitner-Gymnasium\, Knabeweg 3\, Hamburg\, 22549\, Deutschland
CATEGORIES:Turniere
END:VEVENT
BEGIN:VEVENT
DTSTART;TZID=Europe/Berlin:20260627T080000
DTEND;TZID=Europe/Berlin:20260627T200000
DTSTAMP:20260420T070155
CREATED:20260414T172652Z
LAST-MODIFIED:20260416T092353Z
UID:10013124-1782547200-1782590400@hsk1830.de
SUMMARY:46. HSK Kids-Cup
DESCRIPTION: 
URL:https://hsk1830.de/termin/46-hsk-kids-cup
CATEGORIES:Spielbetrieb,Turniere
END:VEVENT
BEGIN:VEVENT
DTSTART;TZID=Europe/Berlin:20260709T080000
DTEND;TZID=Europe/Berlin:20260710T170000
DTSTAMP:20260420T070155
CREATED:20251023T084110Z
LAST-MODIFIED:20251122T175232Z
UID:10012839-1783584000-1783702800@hsk1830.de
SUMMARY:Ferienkurs
DESCRIPTION:Hier ist die Ausschreibung.
URL:https://hsk1830.de/termin/ferienkurs-14
CATEGORIES:Schachschule
END:VEVENT
BEGIN:VEVENT
DTSTART;TZID=Europe/Berlin:20260713T080000
DTEND;TZID=Europe/Berlin:20260717T170000
DTSTAMP:20260420T070155
CREATED:20251023T084407Z
LAST-MODIFIED:20251122T175253Z
UID:10012840-1783929600-1784307600@hsk1830.de
SUMMARY:Ferienkurs
DESCRIPTION:Hier geht es zur Ausschreibung.
URL:https://hsk1830.de/termin/ferienkurs-15
CATEGORIES:Schachschule
END:VEVENT
BEGIN:VEVENT
DTSTART;TZID=Europe/Berlin:20260720T080000
DTEND;TZID=Europe/Berlin:20260724T170000
DTSTAMP:20260420T070155
CREATED:20251023T084533Z
LAST-MODIFIED:20251122T175309Z
UID:10012841-1784534400-1784912400@hsk1830.de
SUMMARY:Ferienkurs
DESCRIPTION:Hier geht es zur Ausschreibung.
URL:https://hsk1830.de/termin/ferienkurs-16
CATEGORIES:Schachschule
END:VEVENT
BEGIN:VEVENT
DTSTART;TZID=Europe/Berlin:20260727T080000
DTEND;TZID=Europe/Berlin:20260731T170000
DTSTAMP:20260420T070155
CREATED:20251023T084650Z
LAST-MODIFIED:20251122T175324Z
UID:10012842-1785139200-1785517200@hsk1830.de
SUMMARY:Ferienkurs
DESCRIPTION:Hier geht es zur Ausschreibung.
URL:https://hsk1830.de/termin/ferienkurs-17
CATEGORIES:Schachschule
END:VEVENT
BEGIN:VEVENT
DTSTART;TZID=Europe/Berlin:20260803T080000
DTEND;TZID=Europe/Berlin:20260807T170000
DTSTAMP:20260420T070155
CREATED:20251023T084828Z
LAST-MODIFIED:20251122T175340Z
UID:10012843-1785744000-1786122000@hsk1830.de
SUMMARY:Ferienkurs
DESCRIPTION:Hier geht es zur Ausschreibung.
URL:https://hsk1830.de/termin/ferienkurs-18
CATEGORIES:Schachschule
END:VEVENT
BEGIN:VEVENT
DTSTART;TZID=Europe/Berlin:20260810T080000
DTEND;TZID=Europe/Berlin:20260814T170000
DTSTAMP:20260420T070155
CREATED:20251023T085038Z
LAST-MODIFIED:20251122T175357Z
UID:10012844-1786348800-1786726800@hsk1830.de
SUMMARY:Ferienkurs
DESCRIPTION:Hier geht es zur Ausschreibung.
URL:https://hsk1830.de/termin/ferienkurs-19
CATEGORIES:Schachschule
END:VEVENT
BEGIN:VEVENT
DTSTART;TZID=Europe/Berlin:20260817T080000
DTEND;TZID=Europe/Berlin:20260819T170000
DTSTAMP:20260420T070155
CREATED:20251023T085148Z
LAST-MODIFIED:20251122T175414Z
UID:10012845-1786953600-1787158800@hsk1830.de
SUMMARY:Ferienkurs
DESCRIPTION:Hier geht es zur Ausschreibung.
URL:https://hsk1830.de/termin/ferienkurs-20
CATEGORIES:Schachschule
END:VEVENT
BEGIN:VEVENT
DTSTART;TZID=Europe/Berlin:20261019T080000
DTEND;TZID=Europe/Berlin:20261023T170000
DTSTAMP:20260420T070155
CREATED:20251023T085544Z
LAST-MODIFIED:20251122T175430Z
UID:10012846-1792396800-1792774800@hsk1830.de
SUMMARY:Ferienkurs
DESCRIPTION:Hier geht es zur Ausschreibung.
URL:https://hsk1830.de/termin/ferienkurs-21
CATEGORIES:Schachschule
END:VEVENT
BEGIN:VEVENT
DTSTART;TZID=Europe/Berlin:20261026T080000
DTEND;TZID=Europe/Berlin:20261030T170000
DTSTAMP:20260420T070155
CREATED:20251023T085656Z
LAST-MODIFIED:20251122T175507Z
UID:10012847-1793001600-1793379600@hsk1830.de
SUMMARY:Ferienkurs
DESCRIPTION:Hier geht es zur Ausschreibung.
URL:https://hsk1830.de/termin/ferienkurs-22
CATEGORIES:Schachschule
END:VEVENT
BEGIN:VEVENT
DTSTART;TZID=Europe/Berlin:20261221T080000
DTEND;TZID=Europe/Berlin:20261223T170000
DTSTAMP:20260420T070155
CREATED:20251023T090057Z
LAST-MODIFIED:20251122T175521Z
UID:10012848-1797840000-1798045200@hsk1830.de
SUMMARY:Ferienkurs
DESCRIPTION:Hier geht es zur Ausschreibung.
URL:https://hsk1830.de/termin/ferienkurs-23
CATEGORIES:Schachschule
END:VEVENT
END:VCALENDAR