BEGIN:VCALENDAR
VERSION:2.0
PRODID:-//Hamburger Schachklub von 1830 e.V. - ECPv6.15.20//NONSGML v1.0//EN
CALSCALE:GREGORIAN
METHOD:PUBLISH
X-WR-CALNAME:Hamburger Schachklub von 1830 e.V.
X-ORIGINAL-URL:https://hsk1830.de
X-WR-CALDESC:Veranstaltungen für Hamburger Schachklub von 1830 e.V.
REFRESH-INTERVAL;VALUE=DURATION:PT1H
X-Robots-Tag:noindex
X-PUBLISHED-TTL:PT1H
BEGIN:VTIMEZONE
TZID:Europe/Berlin
BEGIN:DAYLIGHT
TZOFFSETFROM:+0100
TZOFFSETTO:+0200
TZNAME:CEST
DTSTART:20240331T010000
END:DAYLIGHT
BEGIN:STANDARD
TZOFFSETFROM:+0200
TZOFFSETTO:+0100
TZNAME:CET
DTSTART:20241027T010000
END:STANDARD
BEGIN:DAYLIGHT
TZOFFSETFROM:+0100
TZOFFSETTO:+0200
TZNAME:CEST
DTSTART:20250330T010000
END:DAYLIGHT
BEGIN:STANDARD
TZOFFSETFROM:+0200
TZOFFSETTO:+0100
TZNAME:CET
DTSTART:20251026T010000
END:STANDARD
BEGIN:DAYLIGHT
TZOFFSETFROM:+0100
TZOFFSETTO:+0200
TZNAME:CEST
DTSTART:20260329T010000
END:DAYLIGHT
BEGIN:STANDARD
TZOFFSETFROM:+0200
TZOFFSETTO:+0100
TZNAME:CET
DTSTART:20261025T010000
END:STANDARD
BEGIN:DAYLIGHT
TZOFFSETFROM:+0100
TZOFFSETTO:+0200
TZNAME:CEST
DTSTART:20270328T010000
END:DAYLIGHT
BEGIN:STANDARD
TZOFFSETFROM:+0200
TZOFFSETTO:+0100
TZNAME:CET
DTSTART:20271031T010000
END:STANDARD
END:VTIMEZONE
BEGIN:VEVENT
DTSTART;TZID=Europe/Berlin:20260123T190000
DTEND;TZID=Europe/Berlin:20260123T233000
DTSTAMP:20260420T104424
CREATED:20251207T104651Z
LAST-MODIFIED:20251227T200045Z
UID:10012860-1769194800-1769211000@hsk1830.de
SUMMARY:Kiek mol wedder in
DESCRIPTION:Kiek mol wedder in – Hamburger Schachklub von 1830 e.V.
URL:https://hsk1830.de/termin/kiek-mol-wedder-in/2026-01-23
LOCATION:Hamburger Schachklub von 1830 e.V.\, Schellingstr. 41\, Hamburg\, 22089\, Deutschland
CATEGORIES:Spielbetrieb,Turniere
END:VEVENT
BEGIN:VEVENT
DTSTART;TZID=Europe/Berlin:20260122T190000
DTEND;TZID=Europe/Berlin:20260122T235900
DTSTAMP:20260420T104424
CREATED:20251227T194709Z
LAST-MODIFIED:20251227T202704Z
UID:10012914-1769108400-1769126340@hsk1830.de
SUMMARY:HMM26 (2. Runde) – Basisklasse B: HSK(29) - WEI(6)
DESCRIPTION:
URL:https://hsk1830.de/termin/hmm26-2-runde-basisklasse-b-hsk29-wei6
LOCATION:Hamburger Schachklub von 1830 e.V.\, Schellingstr. 41\, Hamburg\, 22089\, Deutschland
CATEGORIES:Mannschaftskämpfe,Spielbetrieb
END:VEVENT
BEGIN:VEVENT
DTSTART;TZID=Europe/Berlin:20260122T190000
DTEND;TZID=Europe/Berlin:20260122T235900
DTSTAMP:20260420T104424
CREATED:20251227T194708Z
LAST-MODIFIED:20251227T202233Z
UID:10012912-1769108400-1769126340@hsk1830.de
SUMMARY:HMM26 (2. Runde) – Bezirksliga D: HSK(16) - HSK(17)
DESCRIPTION:
URL:https://hsk1830.de/termin/hmm26-2-runde-bezirksliga-d-hsk16-hsk17
LOCATION:Hamburger Schachklub von 1830 e.V.\, Schellingstr. 41\, Hamburg\, 22089\, Deutschland
CATEGORIES:Mannschaftskämpfe,Spielbetrieb
END:VEVENT
BEGIN:VEVENT
DTSTART;TZID=Europe/Berlin:20260122T190000
DTEND;TZID=Europe/Berlin:20260122T235900
DTSTAMP:20260420T104424
CREATED:20251227T194634Z
LAST-MODIFIED:20260118T120227Z
UID:10012888-1769108400-1769126340@hsk1830.de
SUMMARY:HMM26 (1. Runde) – Kreisliga B: HSK(21) - HBG(2) / Nachholtermin
DESCRIPTION:
URL:https://hsk1830.de/termin/hmm26-1-runde-kreisliga-b-hsk21-hbg2
LOCATION:Hamburger Schachklub von 1830 e.V.\, Schellingstr. 41\, Hamburg\, 22089\, Deutschland
CATEGORIES:Mannschaftskämpfe,Spielbetrieb
END:VEVENT
BEGIN:VEVENT
DTSTART;TZID=Europe/Berlin:20260120T190000
DTEND;TZID=Europe/Berlin:20260120T235900
DTSTAMP:20260420T104424
CREATED:20251227T194656Z
LAST-MODIFIED:20251227T200045Z
UID:10012906-1768935600-1768953540@hsk1830.de
SUMMARY:HMM26 (2. Runde) – BD: HSK(23) - HSK(24)
DESCRIPTION:
URL:https://hsk1830.de/termin/hmm26-2-runde-bd-hsk23-hsk24
LOCATION:Hamburger Schachklub von 1830 e.V.\, Schellingstr. 41\, Hamburg\, 22089\, Deutschland
CATEGORIES:Mannschaftskämpfe,Spielbetrieb
END:VEVENT
BEGIN:VEVENT
DTSTART;VALUE=DATE:20260118
DTEND;VALUE=DATE:20260119
DTSTAMP:20260420T104424
CREATED:20250816T103504Z
LAST-MODIFIED:20251123T173247Z
UID:10012806-1768694400-1768780799@hsk1830.de
SUMMARY:LLHH (5. Runde) : HSK 6 - SC Diogenes
DESCRIPTION:
URL:https://hsk1830.de/termin/llhh-5-runde-hsk-6-sc-diogenes
LOCATION:Hamburger Schachklub von 1830 e.V.\, Schellingstr. 41\, Hamburg\, 22089\, Deutschland
CATEGORIES:Mannschaftskämpfe,Spielbetrieb
END:VEVENT
BEGIN:VEVENT
DTSTART;VALUE=DATE:20260118
DTEND;VALUE=DATE:20260119
DTSTAMP:20260420T104424
CREATED:20250816T103425Z
LAST-MODIFIED:20251123T173213Z
UID:10012805-1768694400-1768780799@hsk1830.de
SUMMARY:LLHH (5. Runde) : HSK 4 - SV Großhansdorf
DESCRIPTION:
URL:https://hsk1830.de/termin/llhh-5-runde-hsk-4-sv-grosshansdorf
LOCATION:Hamburger Schachklub von 1830 e.V.\, Schellingstr. 41\, Hamburg\, 22089\, Deutschland
CATEGORIES:Mannschaftskämpfe,Spielbetrieb
END:VEVENT
BEGIN:VEVENT
DTSTART;VALUE=DATE:20260118
DTEND;VALUE=DATE:20260119
DTSTAMP:20260420T104424
CREATED:20250816T103345Z
LAST-MODIFIED:20251123T173152Z
UID:10012804-1768694400-1768780799@hsk1830.de
SUMMARY:LLHH (5. Runde) : HSK 5 - SK Johanneum Eppendorf
DESCRIPTION:
URL:https://hsk1830.de/termin/llhh-5-runde-hsk-5-sk-johanneum-eppendorf
LOCATION:Hamburger Schachklub von 1830 e.V.\, Schellingstr. 41\, Hamburg\, 22089\, Deutschland
CATEGORIES:Mannschaftskämpfe,Spielbetrieb
END:VEVENT
BEGIN:VEVENT
DTSTART;TZID=Europe/Berlin:20260116T190000
DTEND;TZID=Europe/Berlin:20260116T235900
DTSTAMP:20260420T104424
CREATED:20251227T194652Z
LAST-MODIFIED:20251227T202155Z
UID:10012904-1768590000-1768607940@hsk1830.de
SUMMARY:HMM26 (1. Runde) – DA: HSK(28) - SKJ(8)
DESCRIPTION:
URL:https://hsk1830.de/termin/hmm26-1-runde-da-hsk28-skj8
LOCATION:Hamburger Schachklub von 1830 e.V.\, Schellingstr. 41\, Hamburg\, 22089\, Deutschland
CATEGORIES:Mannschaftskämpfe,Spielbetrieb
END:VEVENT
BEGIN:VEVENT
DTSTART;TZID=Europe/Berlin:20260116T190000
DTEND;TZID=Europe/Berlin:20260116T235900
DTSTAMP:20260420T104424
CREATED:20251227T194651Z
LAST-MODIFIED:20251227T202133Z
UID:10012903-1768590000-1768607940@hsk1830.de
SUMMARY:HMM26 (1. Runde) – Kreisklasse C: HSK(26) - UNE(5)
DESCRIPTION:
URL:https://hsk1830.de/termin/hmm26-1-runde-kreisklasse-c-hsk26-une5
LOCATION:Hamburger Schachklub von 1830 e.V.\, Schellingstr. 41\, Hamburg\, 22089\, Deutschland
CATEGORIES:Mannschaftskämpfe,Spielbetrieb
END:VEVENT
BEGIN:VEVENT
DTSTART;TZID=Europe/Berlin:20260116T190000
DTEND;TZID=Europe/Berlin:20260116T235900
DTSTAMP:20260420T104424
CREATED:20251227T194651Z
LAST-MODIFIED:20251227T202141Z
UID:10012902-1768590000-1768607940@hsk1830.de
SUMMARY:HMM26 (1. Runde) – Kreisliga C: HSK(22) - BBK(4)
DESCRIPTION:
URL:https://hsk1830.de/termin/hmm26-1-runde-kreisliga-c-hsk22-bbk4
LOCATION:Hamburger Schachklub von 1830 e.V.\, Schellingstr. 41\, Hamburg\, 22089\, Deutschland
CATEGORIES:Mannschaftskämpfe,Spielbetrieb
END:VEVENT
BEGIN:VEVENT
DTSTART;TZID=Europe/Berlin:20260116T190000
DTEND;TZID=Europe/Berlin:20260116T235900
DTSTAMP:20260420T104424
CREATED:20251227T194650Z
LAST-MODIFIED:20251227T202123Z
UID:10012901-1768590000-1768607940@hsk1830.de
SUMMARY:HMM26 (1. Runde) – Bezirksliga A: HSK(12) - HSK(13)
DESCRIPTION:
URL:https://hsk1830.de/termin/hmm26-1-runde-bezirksliga-a-hsk12-hsk13
LOCATION:Hamburger Schachklub von 1830 e.V.\, Schellingstr. 41\, Hamburg\, 22089\, Deutschland
CATEGORIES:Mannschaftskämpfe,Spielbetrieb
END:VEVENT
BEGIN:VEVENT
DTSTART;TZID=Europe/Berlin:20260116T190000
DTEND;TZID=Europe/Berlin:20260116T233000
DTSTAMP:20260420T104424
CREATED:20251207T104651Z
LAST-MODIFIED:20251227T200045Z
UID:10012859-1768590000-1768606200@hsk1830.de
SUMMARY:Kiek mol wedder in
DESCRIPTION:Kiek mol wedder in – Hamburger Schachklub von 1830 e.V.
URL:https://hsk1830.de/termin/kiek-mol-wedder-in/2026-01-16
LOCATION:Hamburger Schachklub von 1830 e.V.\, Schellingstr. 41\, Hamburg\, 22089\, Deutschland
CATEGORIES:Spielbetrieb,Turniere
END:VEVENT
BEGIN:VEVENT
DTSTART;TZID=Europe/Berlin:20260115T190000
DTEND;TZID=Europe/Berlin:20260115T235900
DTSTAMP:20260420T104424
CREATED:20251227T194650Z
LAST-MODIFIED:20251227T202115Z
UID:10012900-1768503600-1768521540@hsk1830.de
SUMMARY:HMM26 (1. Runde) – Bezirksliga D: HSK(16) - HSK(18)
DESCRIPTION:
URL:https://hsk1830.de/termin/hmm26-1-runde-bezirksliga-d-hsk16-hsk18
LOCATION:Hamburger Schachklub von 1830 e.V.\, Schellingstr. 41\, Hamburg\, 22089\, Deutschland
CATEGORIES:Mannschaftskämpfe,Spielbetrieb
END:VEVENT
BEGIN:VEVENT
DTSTART;TZID=Europe/Berlin:20260115T190000
DTEND;TZID=Europe/Berlin:20260115T235900
DTSTAMP:20260420T104424
CREATED:20251227T194644Z
LAST-MODIFIED:20251227T200045Z
UID:10012899-1768503600-1768521540@hsk1830.de
SUMMARY:HMM26 (1. Runde) – Bezirksliga C: HSK(14) - HSK(15)
DESCRIPTION:
URL:https://hsk1830.de/termin/hmm26-1-runde-bezirksliga-c-hsk14-hsk15
LOCATION:Hamburger Schachklub von 1830 e.V.\, Schellingstr. 41\, Hamburg\, 22089\, Deutschland
CATEGORIES:Mannschaftskämpfe,Spielbetrieb
END:VEVENT
BEGIN:VEVENT
DTSTART;TZID=Europe/Berlin:20260111T110000
DTEND;TZID=Europe/Berlin:20260111T170000
DTSTAMP:20260420T104424
CREATED:20250920T090541Z
LAST-MODIFIED:20251123T175255Z
UID:10012829-1768129200-1768150800@hsk1830.de
SUMMARY:JBL (4.Runde) HSK - SF Wilstermarsch
DESCRIPTION:
URL:https://hsk1830.de/termin/jbl-4-runde-hsk-sf-wilstermarsch
LOCATION:Hamburger Schachklub von 1830 e.V.\, Schellingstr. 41\, Hamburg\, 22089\, Deutschland
CATEGORIES:Mannschaftskämpfe,Spielbetrieb
END:VEVENT
BEGIN:VEVENT
DTSTART;TZID=Europe/Berlin:20260109T190000
DTEND;TZID=Europe/Berlin:20260109T235900
DTSTAMP:20260420T104424
CREATED:20251227T194643Z
LAST-MODIFIED:20251227T200046Z
UID:10012898-1767985200-1768003140@hsk1830.de
SUMMARY:HMM26 (1. Runde) – Stadtliga B: HSK(9) - HSK(11)
DESCRIPTION:
URL:https://hsk1830.de/termin/hmm26-1-runde-stadtliga-b-hsk9-hsk11
LOCATION:Hamburger Schachklub von 1830 e.V.\, Schellingstr. 41\, Hamburg\, 22089\, Deutschland
CATEGORIES:Mannschaftskämpfe,Spielbetrieb
END:VEVENT
BEGIN:VEVENT
DTSTART;TZID=Europe/Berlin:20260109T190000
DTEND;TZID=Europe/Berlin:20260109T235900
DTSTAMP:20260420T104424
CREATED:20251227T194642Z
LAST-MODIFIED:20251227T200046Z
UID:10012897-1767985200-1768003140@hsk1830.de
SUMMARY:HMM26 (1. Runde) – Stadtliga A: HSK(7) - HSK(8)
DESCRIPTION:
URL:https://hsk1830.de/termin/hmm26-1-runde-stadtliga-a-hsk7-hsk8
LOCATION:Hamburger Schachklub von 1830 e.V.\, Schellingstr. 41\, Hamburg\, 22089\, Deutschland
CATEGORIES:Mannschaftskämpfe,Spielbetrieb
END:VEVENT
BEGIN:VEVENT
DTSTART;TZID=Europe/Berlin:20260109T190000
DTEND;TZID=Europe/Berlin:20260109T235900
DTSTAMP:20260420T104424
CREATED:20251227T194640Z
LAST-MODIFIED:20251227T200046Z
UID:10012895-1767985200-1768003140@hsk1830.de
SUMMARY:HMM26 (1. Runde) – Kreisliga A: HSK(19) - MAT(3)
DESCRIPTION:
URL:https://hsk1830.de/termin/hmm26-1-runde-kreisliga-a-hsk19-mat3
LOCATION:Hamburger Schachklub von 1830 e.V.\, Schellingstr. 41\, Hamburg\, 22089\, Deutschland
CATEGORIES:Mannschaftskämpfe,Spielbetrieb
END:VEVENT
BEGIN:VEVENT
DTSTART;TZID=Europe/Berlin:20260108T190000
DTEND;TZID=Europe/Berlin:20260108T235900
DTSTAMP:20260420T104424
CREATED:20251227T194635Z
LAST-MODIFIED:20251227T200047Z
UID:10012889-1767898800-1767916740@hsk1830.de
SUMMARY:HMM26 (1. Runde) – BD: HSK(24) - BAR(1)
DESCRIPTION:
URL:https://hsk1830.de/termin/hmm26-1-runde-bd-hsk24-bar1
LOCATION:Hamburger Schachklub von 1830 e.V.\, Schellingstr. 41\, Hamburg\, 22089\, Deutschland
CATEGORIES:Mannschaftskämpfe,Spielbetrieb
END:VEVENT
BEGIN:VEVENT
DTSTART;TZID=Europe/Berlin:20260106T190000
DTEND;TZID=Europe/Berlin:20260106T235900
DTSTAMP:20260420T104424
CREATED:20251227T194636Z
LAST-MODIFIED:20251227T201641Z
UID:10012890-1767726000-1767743940@hsk1830.de
SUMMARY:HMM26 (1. Runde) – Kreisklasse C: HSK(27) - BBK(6)
DESCRIPTION:
URL:https://hsk1830.de/termin/hmm26-1-runde-kreisklasse-c-hsk27-bbk6-2
LOCATION:Hamburger Schachklub von 1830 e.V.\, Schellingstr. 41\, Hamburg\, 22089\, Deutschland
CATEGORIES:Mannschaftskämpfe,Spielbetrieb
END:VEVENT
BEGIN:VEVENT
DTSTART;TZID=Europe/Berlin:20260106T190000
DTEND;TZID=Europe/Berlin:20260106T235900
DTSTAMP:20260420T104424
CREATED:20251227T194003Z
LAST-MODIFIED:20251227T200127Z
UID:10012884-1767726000-1767743940@hsk1830.de
SUMMARY:HMM26 (1. Runde) – Bezirksliga D: HSK(17) - BBK(3)
DESCRIPTION:
URL:https://hsk1830.de/termin/hmm26-1-runde-bezirksliga-d-hsk17-bbk3
LOCATION:Hamburger Schachklub von 1830 e.V.\, Schellingstr. 41\, Hamburg\, 22089\, Deutschland
CATEGORIES:Mannschaftskämpfe,Spielbetrieb
END:VEVENT
BEGIN:VEVENT
DTSTART;VALUE=DATE:20251227
DTEND;VALUE=DATE:20251231
DTSTAMP:20260420T104424
CREATED:20250924T203451Z
LAST-MODIFIED:20251123T172453Z
UID:10012833-1766793600-1767139199@hsk1830.de
SUMMARY:HSK-Weihnachtsopen 2025
DESCRIPTION:
URL:https://hsk1830.de/termin/hsk-weihnachtsopen-2025
LOCATION:Hamburger Schachklub von 1830 e.V.\, Schellingstr. 41\, Hamburg\, 22089\, Deutschland
CATEGORIES:Spielbetrieb,Turniere
ORGANIZER;CN="Hamburger Schachklub von 1830 e.V.":MAILTO:schachklub@hsk1830.de
END:VEVENT
BEGIN:VEVENT
DTSTART;TZID=Europe/Berlin:20251217T080000
DTEND;TZID=Europe/Berlin:20251223T170000
DTSTAMP:20260420T104424
CREATED:20250605T113308Z
LAST-MODIFIED:20251123T172343Z
UID:10012692-1765958400-1766509200@hsk1830.de
SUMMARY:Ferienkurs
DESCRIPTION:Auch im Dezember findet wirder ein Ferienkurs statt. Zur Ausschreibung geht es hier.
URL:https://hsk1830.de/termin/ferienkurs-13
LOCATION:Hamburger Schachklub von 1830 e.V.\, Schellingstr. 41\, Hamburg\, 22089\, Deutschland
CATEGORIES:Schachschule,Training
END:VEVENT
BEGIN:VEVENT
DTSTART;TZID=Europe/Berlin:20251212T190000
DTEND;TZID=Europe/Berlin:20251212T235900
DTSTAMP:20260420T104424
CREATED:20250714T160356Z
LAST-MODIFIED:20251123T171756Z
UID:10012784-1765566000-1765583940@hsk1830.de
SUMMARY:HSK-Klubturnier 2025 - 9.Runde
DESCRIPTION:
URL:https://hsk1830.de/termin/hsk-klubturnier-2025-9-runde-3
LOCATION:Hamburger Schachklub von 1830 e.V.\, Schellingstr. 41\, Hamburg\, 22089\, Deutschland
CATEGORIES:Spielbetrieb,Turniere
ORGANIZER;CN="Hamburger Schachklub von 1830 e.V.":MAILTO:schachklub@hsk1830.de
END:VEVENT
BEGIN:VEVENT
DTSTART;TZID=Europe/Berlin:20251211T190000
DTEND;TZID=Europe/Berlin:20251211T235900
DTSTAMP:20260420T104424
CREATED:20250714T160343Z
LAST-MODIFIED:20251123T171725Z
UID:10012783-1765479600-1765497540@hsk1830.de
SUMMARY:HSK-Klubturnier 2025 - 9.Runde
DESCRIPTION:
URL:https://hsk1830.de/termin/hsk-klubturnier-2025-9-runde-2
LOCATION:Hamburger Schachklub von 1830 e.V.\, Schellingstr. 41\, Hamburg\, 22089\, Deutschland
CATEGORIES:Spielbetrieb,Turniere
ORGANIZER;CN="Hamburger Schachklub von 1830 e.V.":MAILTO:schachklub@hsk1830.de
END:VEVENT
BEGIN:VEVENT
DTSTART;TZID=Europe/Berlin:20251209T190000
DTEND;TZID=Europe/Berlin:20251209T235900
DTSTAMP:20260420T104424
CREATED:20250714T160329Z
LAST-MODIFIED:20251123T171657Z
UID:10012782-1765306800-1765324740@hsk1830.de
SUMMARY:HSK-Klubturnier 2025 - 9.Runde
DESCRIPTION:
URL:https://hsk1830.de/termin/hsk-klubturnier-2025-9-runde
LOCATION:Hamburger Schachklub von 1830 e.V.\, Schellingstr. 41\, Hamburg\, 22089\, Deutschland
CATEGORIES:Spielbetrieb,Turniere
ORGANIZER;CN="Hamburger Schachklub von 1830 e.V.":MAILTO:schachklub@hsk1830.de
END:VEVENT
BEGIN:VEVENT
DTSTART;VALUE=DATE:20251207
DTEND;VALUE=DATE:20251208
DTSTAMP:20260420T104424
CREATED:20250709T161813Z
LAST-MODIFIED:20251123T171200Z
UID:10012742-1765065600-1765151999@hsk1830.de
SUMMARY:OLNN (4. Runde) : HSK 3 - SC Königsspringer HH
DESCRIPTION:
URL:https://hsk1830.de/termin/olnn-4-runde-hsk-3-sc-koenigsspringer-hh
LOCATION:Hamburger Schachklub von 1830 e.V.\, Schellingstr. 41\, Hamburg\, 22089\, Deutschland
CATEGORIES:Mannschaftskämpfe,Spielbetrieb
END:VEVENT
BEGIN:VEVENT
DTSTART;TZID=Europe/Berlin:20251205T190000
DTEND;TZID=Europe/Berlin:20251205T235900
DTSTAMP:20260420T104424
CREATED:20250714T160307Z
LAST-MODIFIED:20251123T170321Z
UID:10012781-1764961200-1764979140@hsk1830.de
SUMMARY:HSK-Klubturnier 2025 - 8.Runde
DESCRIPTION:
URL:https://hsk1830.de/termin/hsk-klubturnier-2025-8-runde-3
LOCATION:Hamburger Schachklub von 1830 e.V.\, Schellingstr. 41\, Hamburg\, 22089\, Deutschland
CATEGORIES:Spielbetrieb,Turniere
ORGANIZER;CN="Hamburger Schachklub von 1830 e.V.":MAILTO:schachklub@hsk1830.de
END:VEVENT
BEGIN:VEVENT
DTSTART;TZID=Europe/Berlin:20251204T190000
DTEND;TZID=Europe/Berlin:20251204T235900
DTSTAMP:20260420T104424
CREATED:20250714T160254Z
LAST-MODIFIED:20251123T170033Z
UID:10012780-1764874800-1764892740@hsk1830.de
SUMMARY:HSK-Klubturnier 2025 - 8.Runde
DESCRIPTION:
URL:https://hsk1830.de/termin/hsk-klubturnier-2025-8-runde-2
LOCATION:Hamburger Schachklub von 1830 e.V.\, Schellingstr. 41\, Hamburg\, 22089\, Deutschland
CATEGORIES:Spielbetrieb,Turniere
ORGANIZER;CN="Hamburger Schachklub von 1830 e.V.":MAILTO:schachklub@hsk1830.de
END:VEVENT
END:VCALENDAR